BEGIN:VCALENDAR
VERSION:2.0
PRODID:-//AudioTheme 2.3.8
BEGIN:VEVENT
UID:urn:uuid:47c34a3a-30e1-4cdb-b7dd-2dfb02441c70
URL:https://mitchmcvicker.com/concerts/gig-5072/
DTSTART;TZID=GMT:20240916T000000
SUMMARY:Connection Church
LOCATION:Connection Church\, 2938 North Ave.\, Grand Junction\, CO\, USA
END:VEVENT
END:VCALENDAR
