BEGIN:VCALENDAR
VERSION:2.0
PRODID:-//AudioTheme 2.3.8
BEGIN:VEVENT
UID:urn:uuid:2eefde53-8e66-4216-a267-8e82cabdc31b
URL:https://mitchmcvicker.com/concerts/gig-5071/
DTSTART;TZID=GMT:20240915T010000
SUMMARY:The Foote Rest
LOCATION:The Foote Rest\, Call for Information\, Denver\, CO
END:VEVENT
END:VCALENDAR
