BEGIN:VCALENDAR
VERSION:2.0
PRODID:-//AudioTheme 2.3.8
BEGIN:VEVENT
UID:urn:uuid:580b6964-64d9-4fe5-9759-c7ebd4684371
URL:https://mitchmcvicker.com/concerts/gig-5069/
DTSTART;TZID=GMT:20240908T143000
SUMMARY:Heritage Methodist Church (couple of songs at service)
LOCATION:Heritage Methodist Church (couple of songs at service)\, 929 Texas Street\, Graham\, TX
END:VEVENT
END:VCALENDAR
