BEGIN:VCALENDAR
VERSION:2.0
PRODID:-//AudioTheme 2.3.8
BEGIN:VEVENT
UID:urn:uuid:3e6217c6-40a4-471f-b172-75fef1fb888c
URL:https://mitchmcvicker.com/concerts/gig-5067/
DTSTART;TZID=GMT:20240908T000000
SUMMARY:Fireman's Park hosted by Heritage Methodist Church
LOCATION:Fireman's Park hosted by Heritage Methodist Church\, Graham\, TX
END:VEVENT
END:VCALENDAR
