BEGIN:VCALENDAR
VERSION:2.0
PRODID:-//AudioTheme 2.3.8
BEGIN:VEVENT
UID:urn:uuid:170b99d0-93f5-467d-bf5b-cf29f0adfdbb
URL:https://mitchmcvicker.com/concerts/gig-5066/
DTSTART;TZID=GMT:20240904T000000
SUMMARY:POSTPONED
LOCATION:POSTPONED\, POSTPONED Valley Center\, KS\, 67147
END:VEVENT
END:VCALENDAR
