BEGIN:VCALENDAR
VERSION:2.0
PRODID:-//AudioTheme 2.3.8
BEGIN:VEVENT
UID:urn:uuid:373f2258-0449-4ad9-a4e4-341f0a3e97ad
URL:https://mitchmcvicker.com/concerts/gig-5064/
DTSTART;TZID=GMT:20240824T020000
SUMMARY:Casper Christian School Festival
LOCATION:Casper Christian School Festival\, 411 South Walsh Drive\, Casper\, WY
END:VEVENT
END:VCALENDAR
