BEGIN:VCALENDAR
VERSION:2.0
PRODID:-//AudioTheme 2.3.8
BEGIN:VEVENT
UID:urn:uuid:38ff56a6-80da-4e5d-97fe-c493c4e8b3e9
URL:https://mitchmcvicker.com/concerts/gig-5063/
DTSTART;TZID=GMT:20240822T000000
SUMMARY:Hope Community Church
LOCATION:Hope Community Church\, 1411 Roseport Road\, Elwood\, KS\, United States\, 66024
END:VEVENT
END:VCALENDAR
