BEGIN:VCALENDAR
VERSION:2.0
PRODID:-//AudioTheme 2.3.8
BEGIN:VEVENT
UID:urn:uuid:b790d4f8-0ce9-404c-9471-8428ab02cf5e
URL:https://mitchmcvicker.com/concerts/gig-5060/
DTSTART;TZID=GMT:20240817T230000
SUMMARY:Kalkaska Church of Christ
LOCATION:Kalkaska Church of Christ\, 1725 W. Kalkaska Rd. NW\, Kalkaska\, MI
END:VEVENT
END:VCALENDAR
