BEGIN:VCALENDAR
VERSION:2.0
PRODID:-//AudioTheme 2.3.8
BEGIN:VEVENT
UID:urn:uuid:16663f1c-590d-4b59-9cce-16c7ed90750f
URL:https://mitchmcvicker.com/concerts/gig-506/
DTSTART;TZID=GMT:20180920T230000
SUMMARY:New Life Community Church
LOCATION:New Life Community Church\, 1450 N. State Road 135\, Nashville\, Indiana
END:VEVENT
END:VCALENDAR
