BEGIN:VCALENDAR
VERSION:2.0
PRODID:-//AudioTheme 2.3.8
BEGIN:VEVENT
UID:urn:uuid:962b195d-8aaa-4fa4-9ad9-dd05560f5b10
URL:https://mitchmcvicker.com/concerts/gig-5058/
DTSTART;TZID=GMT:20240811T220000
SUMMARY:Batesville Christian Church
LOCATION:Batesville Christian Church\, 1294 Columbus Ave.\, Batesville\, IN
END:VEVENT
END:VCALENDAR
