BEGIN:VCALENDAR
VERSION:2.0
PRODID:-//AudioTheme 2.3.8
BEGIN:VEVENT
UID:urn:uuid:4ec37434-b20c-4872-a538-e39eb89e8819
URL:https://mitchmcvicker.com/concerts/gig-5057/
DTSTART;TZID=GMT:20240811T143000
SUMMARY:Holton Christian Church - Church in the Park
LOCATION:Holton Christian Church - Church in the Park\, Holton Community Park 6805 W. Versailles St.\, Holton\, IN
END:VEVENT
END:VCALENDAR
