BEGIN:VCALENDAR
VERSION:2.0
PRODID:-//AudioTheme 2.3.8
BEGIN:VEVENT
UID:urn:uuid:e1c79eab-5a79-42aa-835f-acb59cf27ad7
URL:https://mitchmcvicker.com/concerts/gig-5055/
DTSTART;VALUE=DATE:20240410
SUMMARY:Indianapolis - TBA
LOCATION:Indianapolis - TBA\, Indianapolis\, IN
END:VEVENT
END:VCALENDAR
