BEGIN:VCALENDAR
VERSION:2.0
PRODID:-//AudioTheme 2.3.8
BEGIN:VEVENT
UID:urn:uuid:6fc30740-2f42-4364-9ee7-5862e9a6efad
URL:https://mitchmcvicker.com/concerts/gig-5053/
DTSTART;TZID=GMT:20240809T230000
SUMMARY:First Church of God
LOCATION:First Church of God\, 1016 W. Mill Road\, Middletown\, IN
END:VEVENT
END:VCALENDAR
