BEGIN:VCALENDAR
VERSION:2.0
PRODID:-//AudioTheme 2.3.8
BEGIN:VEVENT
UID:urn:uuid:90413141-25ee-4cbd-b6ac-ec0d8a43ab3a
URL:https://mitchmcvicker.com/concerts/gig-5047/
DTSTART;TZID=GMT:20240728T220000
SUMMARY:Next Chapter Church
LOCATION:Next Chapter Church\, 5300 Taylor Mill Road\, Taylor Mill\, KY
END:VEVENT
END:VCALENDAR
