BEGIN:VCALENDAR
VERSION:2.0
PRODID:-//AudioTheme 2.3.8
BEGIN:VEVENT
UID:urn:uuid:3f3e21db-3f7e-46ef-a004-7ff47941b2d7
URL:https://mitchmcvicker.com/concerts/gig-5042/
DTSTART;TZID=GMT:20240726T230000
SUMMARY:Rapunzel’s Coffee and Books
LOCATION:Rapunzel’s Coffee and Books\, 924 Front Street\, Lovingston\, VA
END:VEVENT
END:VCALENDAR
