BEGIN:VCALENDAR
VERSION:2.0
PRODID:-//AudioTheme 2.3.8
BEGIN:VEVENT
UID:urn:uuid:c4fd8a27-b525-4e2c-9a6d-ddaeb6b901f8
URL:https://mitchmcvicker.com/concerts/gig-499/
DTSTART;TZID=GMT:20181201T010000
SUMMARY:POSTPONED LifeSpring Community Church
LOCATION:POSTPONED LifeSpring Community Church\, 1615 Thoele Road\, POSTPONED St. Peters\, MO
END:VEVENT
END:VCALENDAR
