BEGIN:VCALENDAR
VERSION:2.0
PRODID:-//AudioTheme 2.3.8
BEGIN:VEVENT
UID:urn:uuid:0eebf7cc-7948-4c80-b322-8da4505f236c
URL:https://mitchmcvicker.com/concerts/gig-4987/
DTSTART;TZID=GMT:20240705T030000
SUMMARY:AudioFeed Music Festival
LOCATION:AudioFeed Music Festival\, 1302 N Coler Ave\, Urbana\, IL
END:VEVENT
END:VCALENDAR
