BEGIN:VCALENDAR
VERSION:2.0
PRODID:-//AudioTheme 2.3.8
BEGIN:VEVENT
UID:urn:uuid:d6f8eb4b-f4e3-45fa-af54-f05685728704
URL:https://mitchmcvicker.com/concerts/gig-4984/
DTSTART;TZID=GMT:20240629T230000
SUMMARY:Avalon Missionary Church
LOCATION:Avalon Missionary Church\, 1212 Lower Huntington Road\, Ft. Wayne\, IN
END:VEVENT
END:VCALENDAR
