BEGIN:VCALENDAR
VERSION:2.0
PRODID:-//AudioTheme 2.3.8
BEGIN:VEVENT
UID:urn:uuid:9b12a821-ba81-4121-bad6-14c8435e9db5
URL:https://mitchmcvicker.com/concerts/gig-4980/
DTSTART;TZID=GMT:20240627T230000
SUMMARY:Strongsville United Methodist Church
LOCATION:Strongsville United Methodist Church\, 13500 Royalton Road\, Strongsville\, OH
END:VEVENT
END:VCALENDAR
