BEGIN:VCALENDAR
VERSION:2.0
PRODID:-//AudioTheme 2.3.8
BEGIN:VEVENT
UID:urn:uuid:63e0d2fe-3efc-415e-b10f-3b9e20e6e12b
URL:https://mitchmcvicker.com/concerts/gig-4978/
DTSTART;TZID=GMT:20240602T150000
SUMMARY:Fremont Presbyterian Church (couple songs at service)
LOCATION:Fremont Presbyterian Church (couple songs at service)\, 520 W. Linden Ave.\, Fremont\, NE
END:VEVENT
END:VCALENDAR
