BEGIN:VCALENDAR
VERSION:2.0
PRODID:-//AudioTheme 2.3.8
BEGIN:VEVENT
UID:urn:uuid:6dee8516-a2d8-41a6-acd9-a9eff940e13f
URL:https://mitchmcvicker.com/concerts/gig-4976/
DTSTART;TZID=GMT:20240602T230000
SUMMARY:Fremont Presbyterian Church
LOCATION:Fremont Presbyterian Church\, 520 W. Linden Ave.\, Fremont\, NE
END:VEVENT
END:VCALENDAR
