BEGIN:VCALENDAR
VERSION:2.0
PRODID:-//AudioTheme 2.3.8
BEGIN:VEVENT
UID:urn:uuid:c991849d-c85d-46eb-871c-cbcb0d1748d7
URL:https://mitchmcvicker.com/concerts/gig-4975/
DTSTART;TZID=GMT:20240601T233000
SUMMARY:Lifepoint Church
LOCATION:Lifepoint Church\, 200 SW 30th St\, Topeka\, KS
END:VEVENT
END:VCALENDAR
