BEGIN:VCALENDAR
VERSION:2.0
PRODID:-//AudioTheme 2.3.8
BEGIN:VEVENT
UID:urn:uuid:4c94d698-2bbe-4a2e-8398-fa12dc9d327d
URL:https://mitchmcvicker.com/concerts/gig-4974/
DTSTART;TZID=GMT:20240601T000000
SUMMARY:Brothers Keeper Church
LOCATION:Brothers Keeper Church\, 280 Homer Cemetery Rd\, Lufkin\, TX
END:VEVENT
END:VCALENDAR
