BEGIN:VCALENDAR
VERSION:2.0
PRODID:-//AudioTheme 2.3.8
BEGIN:VEVENT
UID:urn:uuid:d31e4df0-7d9e-436d-b688-2b93b7362c9c
URL:https://mitchmcvicker.com/concerts/gig-4973/
DTSTART;TZID=GMT:20240531T000000
SUMMARY:Wylie Christian Church
LOCATION:Wylie Christian Church\, 6250 Buffalo Gap Rd.\, Abilene\, TX
END:VEVENT
END:VCALENDAR
