BEGIN:VCALENDAR
VERSION:2.0
PRODID:-//AudioTheme 2.3.8
BEGIN:VEVENT
UID:urn:uuid:2dd80293-73d0-47e4-8b9c-2f9f75353039
URL:https://mitchmcvicker.com/concerts/gig-4971/
DTSTART;TZID=GMT:20240530T000000
SUMMARY:Central Nebraska Veterans Home - Freedom Hall
LOCATION:Central Nebraska Veterans Home - Freedom Hall\, 4510 E 56th Street\, Kearney\, NE\, 68847
END:VEVENT
END:VCALENDAR
