BEGIN:VCALENDAR
VERSION:2.0
PRODID:-//AudioTheme 2.3.8
BEGIN:VEVENT
UID:urn:uuid:196b7016-fed8-4579-9e82-c2e7eb1f2d04
URL:https://mitchmcvicker.com/concerts/gig-4970/
DTSTART;TZID=GMT:20240529T000000
SUMMARY:Earlham Friends Church
LOCATION:Earlham Friends Church\, 115 NE 2nd St.\, Earlham\, IA
END:VEVENT
END:VCALENDAR
