BEGIN:VCALENDAR
VERSION:2.0
PRODID:-//AudioTheme 2.3.8
BEGIN:VEVENT
UID:urn:uuid:2700b3f5-3003-4cc3-952c-27be0d417df6
URL:https://mitchmcvicker.com/concerts/gig-497/
DTSTART;TZID=GMT:20181130T011500
SUMMARY:Norm's Coffee Bar
LOCATION:Norm's Coffee Bar\, 613 North Main Street\, Newton\, KS
END:VEVENT
END:VCALENDAR
