BEGIN:VCALENDAR
VERSION:2.0
PRODID:-//AudioTheme 2.3.8
BEGIN:VEVENT
UID:urn:uuid:7bad3dc4-766a-4970-b970-4137166d2191
URL:https://mitchmcvicker.com/concerts/gig-4968/
DTSTART;TZID=GMT:20240525T230000
SUMMARY:Camby Community Church
LOCATION:Camby Community Church\, 8604 Camby Road\, Camby\, IN
END:VEVENT
END:VCALENDAR
