BEGIN:VCALENDAR
VERSION:2.0
PRODID:-//AudioTheme 2.3.8
BEGIN:VEVENT
UID:urn:uuid:3bd1ee24-aad0-4650-a31a-b9971faf465e
URL:https://mitchmcvicker.com/concerts/gig-495/
DTSTART;TZID=GMT:20181129T183000
SUMMARY:Friends University
DESCRIPTION:Hosted by Northfield School
LOCATION:Friends University\, Casado Campus Center\, Wichita\, KS
END:VEVENT
END:VCALENDAR
