BEGIN:VCALENDAR
VERSION:2.0
PRODID:-//AudioTheme 2.3.8
BEGIN:VEVENT
UID:urn:uuid:42253376-7f7f-4f6a-94cc-85af603a1622
URL:https://mitchmcvicker.com/concerts/gig-493/
DTSTART;TZID=GMT:20181128T010000
SUMMARY:CANCELLED by church due to weather
LOCATION:Topeka Free Methodist Church\, 3450 SE Indiana Ave.\, Topeka\, KS
END:VEVENT
END:VCALENDAR
