BEGIN:VCALENDAR
VERSION:2.0
PRODID:-//AudioTheme 2.3.8
BEGIN:VEVENT
UID:urn:uuid:05328fe1-6b4a-4001-860a-f1d5bd449628
URL:https://mitchmcvicker.com/concerts/gig-4927/
DTSTART;TZID=GMT:20240427T000000
SUMMARY:Faith Global Church
LOCATION:Faith Global Church\, 1025 Tullar Road\, Neenah\, WI
END:VEVENT
END:VCALENDAR
