BEGIN:VCALENDAR
VERSION:2.0
PRODID:-//AudioTheme 2.3.8
BEGIN:VEVENT
UID:urn:uuid:dbffe9cf-f8a3-49dc-a19f-b5ad75520a36
URL:https://mitchmcvicker.com/concerts/gig-4926/
DTSTART;TZID=GMT:20240423T230000
SUMMARY:Riverside Christian Church
LOCATION:Riverside Christian Church\, 15413 SR 49\, Antwerp\, OH\, USA
END:VEVENT
END:VCALENDAR
