BEGIN:VCALENDAR
VERSION:2.0
PRODID:-//AudioTheme 2.3.8
BEGIN:VEVENT
UID:urn:uuid:5b2e3164-c794-41f6-9b4c-77cd93178dbf
URL:https://mitchmcvicker.com/concerts/gig-4925/
DTSTART;TZID=GMT:20240310T220000
SUMMARY:Trinity Presbyterian Church
LOCATION:Trinity Presbyterian Church\, 4365 State Road 776\, Venice\, FL
END:VEVENT
END:VCALENDAR
