BEGIN:VCALENDAR
VERSION:2.0
PRODID:-//AudioTheme 2.3.8
BEGIN:VEVENT
UID:urn:uuid:9f60ce8a-2bcd-44b8-8eb1-273124002f9b
URL:https://mitchmcvicker.com/concerts/gig-4923/
DTSTART;TZID=GMT:20240310T000000
SUMMARY:Faith Lutheran Church
LOCATION:Faith Lutheran Church\, 5443 Sunset Road\, New Port Richey\, FL
END:VEVENT
END:VCALENDAR
