BEGIN:VCALENDAR
VERSION:2.0
PRODID:-//AudioTheme 2.3.8
BEGIN:VEVENT
UID:urn:uuid:5638ca70-fb9b-4381-8661-be106dc4dac1
URL:https://mitchmcvicker.com/concerts/gig-4921/
DTSTART;TZID=GMT:20240308T000000
SUMMARY:Magee Manor
LOCATION:Magee Manor\, 2913 11th Ave\, Columbus\, GA
END:VEVENT
END:VCALENDAR
