BEGIN:VCALENDAR
VERSION:2.0
PRODID:-//AudioTheme 2.3.8
BEGIN:VEVENT
UID:urn:uuid:ad00f72d-2b0f-4c21-bbdb-2a87df9ca3fc
URL:https://mitchmcvicker.com/concerts/gig-4919/
DTSTART;TZID=GMT:20240306T230000
SUMMARY:LifePoint Church of Etown
LOCATION:LifePoint Church of Etown\, 401 W Poplar St.\, Elizabethtown\, KY
END:VEVENT
END:VCALENDAR
