BEGIN:VCALENDAR
VERSION:2.0
PRODID:-//AudioTheme 2.3.8
BEGIN:VEVENT
UID:urn:uuid:aef88949-aeb9-4615-8d61-f5a4e5b076a6
URL:https://mitchmcvicker.com/concerts/gig-4918/
DTSTART;TZID=GMT:20240226T000000
SUMMARY:RockChurch
LOCATION:RockChurch\, 1081 Upper Spring Bay Rd\, East Peoria\, IL
END:VEVENT
END:VCALENDAR
