BEGIN:VCALENDAR
VERSION:2.0
PRODID:-//AudioTheme 2.3.8
BEGIN:VEVENT
UID:urn:uuid:9469a890-ad3e-4ec1-8caf-c2dad6a3f929
URL:https://mitchmcvicker.com/concerts/gig-4917/
DTSTART;TZID=GMT:20240225T010000
SUMMARY:Calvary Chapel Clarksville
LOCATION:Calvary Chapel Clarksville\, 221 Dunbar Cave Rd.\, Clarksville\, TN
END:VEVENT
END:VCALENDAR
