BEGIN:VCALENDAR
VERSION:2.0
PRODID:-//AudioTheme 2.3.8
BEGIN:VEVENT
UID:urn:uuid:90dfccd9-a36a-419c-88eb-bf57d3297c65
URL:https://mitchmcvicker.com/concerts/gig-4916/
DTSTART;TZID=GMT:20240223T230000
SUMMARY:Mt. Hermon Lutheran Church
LOCATION:Mt. Hermon Lutheran Church\, 3011 Leaphart Rd.\, West Columbia\, SC
END:VEVENT
END:VCALENDAR
