BEGIN:VCALENDAR
VERSION:2.0
PRODID:-//AudioTheme 2.3.8
BEGIN:VEVENT
UID:urn:uuid:41315108-db94-4931-a111-0c5f65bda7c2
URL:https://mitchmcvicker.com/concerts/gig-4914/
DTSTART;TZID=GMT:20240223T010000
SUMMARY:Five Points Recording Studio
LOCATION:Five Points Recording Studio\, 200 Andrew Jackson Way NE\, Huntsville\, AL
END:VEVENT
END:VCALENDAR
