BEGIN:VCALENDAR
VERSION:2.0
PRODID:-//AudioTheme 2.3.8
BEGIN:VEVENT
UID:urn:uuid:94c8afdf-d339-4569-804f-8e411bc4ac66
URL:https://mitchmcvicker.com/concerts/gig-4894/
DTSTART;TZID=GMT:20231029T150000
SUMMARY:North Bay Church
LOCATION:North Bay Church\, 1316 East 5th Street\, Superior\, WI
END:VEVENT
END:VCALENDAR
