BEGIN:VCALENDAR
VERSION:2.0
PRODID:-//AudioTheme 2.3.8
BEGIN:VEVENT
UID:urn:uuid:4d93ac85-7077-42f0-903a-166cce38fbed
URL:https://mitchmcvicker.com/concerts/gig-489/
DTSTART;TZID=GMT:20181014T003000
SUMMARY:Oak Grove Bible Church
LOCATION:Oak Grove Bible Church\, 3221 Springfield Road\, Peoria\, IL
END:VEVENT
END:VCALENDAR
