BEGIN:VCALENDAR
VERSION:2.0
PRODID:-//AudioTheme 2.3.8
BEGIN:VEVENT
UID:urn:uuid:e5ef622f-1256-41ca-b90f-88f40a6b2c7f
URL:https://mitchmcvicker.com/concerts/gig-4888/
DTSTART;TZID=GMT:20231107T000000
SUMMARY:Rapunzel’s Coffee and Books
LOCATION:Rapunzel’s Coffee and Books\, 924 Front Street\, Lovingston\, VA
END:VEVENT
END:VCALENDAR
