BEGIN:VCALENDAR
VERSION:2.0
PRODID:-//AudioTheme 2.3.8
BEGIN:VEVENT
UID:urn:uuid:8c87f2f1-7daa-45f7-a68b-a37291b5b524
URL:https://mitchmcvicker.com/concerts/gig-4878/
DTSTART;TZID=GMT:20230917T220000
SUMMARY:First Baptist Church
LOCATION:First Baptist Church\, 603 W 7th St\, Chickamauga\, GA
END:VEVENT
END:VCALENDAR
