BEGIN:VCALENDAR
VERSION:2.0
PRODID:-//AudioTheme 2.3.8
BEGIN:VEVENT
UID:urn:uuid:8083905e-f599-4b86-aa7e-ce25a1fac684
URL:https://mitchmcvicker.com/concerts/gig-4873/
DTSTART;TZID=GMT:20231029T220000
SUMMARY:North Bay Church
LOCATION:North Bay Church\, 1316 East 5th Street\, Superior\, WI
END:VEVENT
END:VCALENDAR
