BEGIN:VCALENDAR
VERSION:2.0
PRODID:-//AudioTheme 2.3.8
BEGIN:VEVENT
UID:urn:uuid:24dfa80e-ceeb-4983-8ac0-32f798a8ad07
URL:https://mitchmcvicker.com/concerts/gig-4871/
DTSTART;TZID=GMT:20231105T223000
SUMMARY:Christ the King Anglican Fellowship
LOCATION:Christ the King Anglican Fellowship\, 755 North Carolina HWY 105 Bypass\, Boone\, NC
END:VEVENT
END:VCALENDAR
