BEGIN:VCALENDAR
VERSION:2.0
PRODID:-//AudioTheme 2.3.8
BEGIN:VEVENT
UID:urn:uuid:bcd05360-fb36-46b3-aabc-43cabfdde940
URL:https://mitchmcvicker.com/concerts/gig-487/
DTSTART;TZID=GMT:20181013T000000
SUMMARY:Hillcrest Church
LOCATION:Hillcrest Church\, 4301 E. 26th Street\, Sioux Falls\, SD
END:VEVENT
END:VCALENDAR
