BEGIN:VCALENDAR
VERSION:2.0
PRODID:-//AudioTheme 2.3.8
BEGIN:VEVENT
UID:urn:uuid:5b01bc60-1155-4897-a571-6f195bc736f0
URL:https://mitchmcvicker.com/concerts/gig-4869/
DTSTART;TZID=GMT:20231024T000000
SUMMARY:Sanctuary Church
LOCATION:Sanctuary Church\, 912 18th Avenue SW\, Cedar Rapids\, IA\, USA
END:VEVENT
END:VCALENDAR
