BEGIN:VCALENDAR
VERSION:2.0
PRODID:-//AudioTheme 2.3.8
BEGIN:VEVENT
UID:urn:uuid:80b27176-491b-43f3-bc8c-225aa4bc8ed6
URL:https://mitchmcvicker.com/concerts/gig-4863/
DTSTART;TZID=GMT:20230716T150000
SUMMARY:Warehouse Church
LOCATION:Warehouse Church\, 308 East Galena Blvd\, Aurora\, IL
END:VEVENT
END:VCALENDAR
