BEGIN:VCALENDAR
VERSION:2.0
PRODID:-//AudioTheme 2.3.8
BEGIN:VEVENT
UID:urn:uuid:efca0be7-d845-4ca5-9ece-afd5831610b7
URL:https://mitchmcvicker.com/concerts/gig-4861/
DTSTART;TZID=GMT:20230716T000000
SUMMARY:AJ's Java Joint
LOCATION:AJ's Java Joint\, 586 Randall Road\, South Elgin\, IL
END:VEVENT
END:VCALENDAR
